BEGIN:VCALENDAR
VERSION:2.0
PRODID:-//Providence House - ECPv6.15.17.1//NONSGML v1.0//EN
CALSCALE:GREGORIAN
METHOD:PUBLISH
X-ORIGINAL-URL:https://provhouse.org
X-WR-CALDESC:Events for Providence House
REFRESH-INTERVAL;VALUE=DURATION:PT1H
X-Robots-Tag:noindex
X-PUBLISHED-TTL:PT1H
BEGIN:VTIMEZONE
TZID:UTC
BEGIN:STANDARD
TZOFFSETFROM:+0000
TZOFFSETTO:+0000
TZNAME:UTC
DTSTART:20250101T000000
END:STANDARD
END:VTIMEZONE
BEGIN:VEVENT
DTSTART;TZID=UTC:20260516T130000
DTEND;TZID=UTC:20260516T170000
DTSTAMP:20260422T175506
CREATED:20260311T144205Z
LAST-MODIFIED:20260417T170307Z
UID:10000007-1778936400-1778950800@provhouse.org
SUMMARY:Spike for Hope
DESCRIPTION:[vc_row][vc_column width=”1/1″][vc_column_text uncode_shortcode_id=”160547″]Join our PHriends for a fun afternoon of friendly pickleball competition to support the children and families of Providence House! \n[/vc_column_text][vc_custom_heading text_color=”color-104714″ text_font=”font-790879″ text_weight=”600″ uncode_shortcode_id=”140655″ text_color_type=”uncode-palette”]Event Highlights[/vc_custom_heading][vc_column_text uncode_shortcode_id=”580536″]Everyone is welcome — whether you’re playing or cheering from the sidelines! There will be plenty of ways to support Providence House throughout the afternoon. \n\nPickleball Tournament Play – Friendly competitive matches for all skill levels.\nFood & Drinks – Enjoy snacks and refreshments while you play or watch.\nFun Activities & Support Opportunities – Chances to contribute to our mission throughout the event including raffle baskets and a 50/50 raffle!\n\nHelp Providence House provide loving care to children and families in crisis[/vc_column_text][vc_button border_width=”0″ uncode_shortcode_id=”886652″ link=”url:%2Fwp-content%2Fuploads%2F2026%2F03%2Fspikeforhope2026flyer.pdf|target:_blank”]View Invitation[/vc_button][vc_custom_heading text_color=”color-104714″ text_font=”font-790879″ text_weight=”600″ uncode_shortcode_id=”495499″ text_color_type=”uncode-palette”]Become an Event Sponsor[/vc_custom_heading][vc_column_text uncode_shortcode_id=”151753″]Support children and families served by Providence House while gaining meaningful visibility for your business. We offer a variety of sponsorship levels to fit different budgets\, goals\, and levels of visibility\, making it easy for organizations of all sizes to participate and make an impact. Benefits include: \n\nValuable Brand Exposure for Your Company or Organization\nEmployee Engagement Through Event Participation\nCommunity Impact By Supporting Local Children & Families\n\n[/vc_column_text][vc_button border_width=”0″ uncode_shortcode_id=”200493″ link=”url:https%3A%2F%2Fe.givesmart.com%2Fevents%2FO0O%2F|target:_blank”]Secure your Sponsorship[/vc_button][vc_custom_heading text_color=”color-104714″ text_font=”font-790879″ text_weight=”600″ uncode_shortcode_id=”137647″ text_color_type=”uncode-palette”]About PHriends[/vc_custom_heading][vc_column_text uncode_shortcode_id=”478515″]This event is hosted by the PHriends Associate Board\, a dedicated group of young professionals and emerging leaders committed to raising awareness and funds for Providence House. \nOur PHriends will be there all day\, so stop by to meet them and hang out! Thank you for coming out\, playing with purpose\, and helping make a difference in our community![/vc_column_text][/vc_column][/vc_row]
URL:https://provhouse.org/event/spike-for-hope/
LOCATION:Cleveland Pickleball Center\, 12400 Crossburn Ave\, Cleveland\, Ohio\, 44135
ATTACH;FMTTYPE=image/png:https://provhouse.org/wp-content/uploads/2026/03/spikeforhopepickleballlogos-1920x1080px7.png
END:VEVENT
END:VCALENDAR