BEGIN:VCALENDAR
VERSION:2.0
PRODID:-//Providence House - ECPv6.15.17.1//NONSGML v1.0//EN
CALSCALE:GREGORIAN
METHOD:PUBLISH
X-WR-CALNAME:Providence House
X-ORIGINAL-URL:https://provhouse.org
X-WR-CALDESC:Events for Providence House
REFRESH-INTERVAL;VALUE=DURATION:PT1H
X-Robots-Tag:noindex
X-PUBLISHED-TTL:PT1H
BEGIN:VTIMEZONE
TZID:UTC
BEGIN:STANDARD
TZOFFSETFROM:+0000
TZOFFSETTO:+0000
TZNAME:UTC
DTSTART:20250101T000000
END:STANDARD
END:VTIMEZONE
BEGIN:VEVENT
DTSTART;TZID=UTC:20260502T140000
DTEND;TZID=UTC:20260502T160000
DTSTAMP:20260422T224917
CREATED:20260311T142249Z
LAST-MODIFIED:20260420T163811Z
UID:10000006-1777730400-1777737600@provhouse.org
SUMMARY:Kendra Scott Fundraiser for Providence House
DESCRIPTION:[vc_row][vc_column width=”1/1″][vc_column_text uncode_shortcode_id=”796257″] \nAdd a little meaning to your shopping and help support children and families in crisis in our community. \nOur PHriends are hosting a special shopping event to benefit Providence House at Kendra Scott – Eton Chagrin Boulevard store. \nSaturday\, May 2\, 20262 – 4 PMWoodmere\, OH 44122 \nDuring the event\, Kendra Scott will donate 20% of all in-store and online purchases to Providence House. \n\nWhen shopping in store\, please mention Providence House at checkout so your purchase is counted.\n\n\nWhen shopping online during the event window\, your purchase will also support Providence House.\n\nJoin us for a meaningful afternoon of shopping that helps keep children safe and families together! \n[/vc_column_text][/vc_column][/vc_row]
URL:https://provhouse.org/event/kendra-scott-fundraiser-for-providence-house/
LOCATION:Kendra Scott – Eton Chagrin Boulevard\, 28699 Chagrin Blvd\, Woodmere\,\, Ohio\, 44122
ATTACH;FMTTYPE=image/jpeg:https://provhouse.org/wp-content/uploads/2026/03/birthstones.jpeg
END:VEVENT
BEGIN:VEVENT
DTSTART;TZID=UTC:20260428T113000
DTEND;TZID=UTC:20260428T130000
DTSTAMP:20260422T224917
CREATED:20260219T184846Z
LAST-MODIFIED:20260420T171505Z
UID:10000004-1777375800-1777381200@provhouse.org
SUMMARY:Providence House 45th Anniversary Luncheon
DESCRIPTION:Celebrate nearly 50 years of Providence House and more than 20\,000 children kept safe and families together at our 45th Anniversary Luncheon! \nJoin us and 500 of our corporate partners and supporters for an inspiring afternoon and a delicious lunch to help children and families in crisis. \nKeynote\nEnjoy an incredible keynote from the Cleveland WNBA’s Allison Howard\, President of Business Operations\, who also serves on the Providence House Board of Directors! \nVenue\nWe’re excited to welcome you to our new venue\, the Hope Ballroom at the Hilton Cleveland\, Downtown. \nParking is available directly across the street\, and an underground tunnel connects the parking garage to the Hilton.
URL:https://provhouse.org/event/providence-house-45th-anniversary-luncheon/
LOCATION:Hilton Cleveland Downtown\, 100 Lakeside Avenue East\, Cleveland\, OH\, 44114\, United States
ATTACH;FMTTYPE=image/png:https://provhouse.org/wp-content/uploads/2026/02/2026anniversaryluncheon.png
END:VEVENT
BEGIN:VEVENT
DTSTART;TZID=UTC:20260412T120000
DTEND;TZID=UTC:20260412T140000
DTSTAMP:20260422T224917
CREATED:20260219T183001Z
LAST-MODIFIED:20260220T221119Z
UID:10000003-1775995200-1776002400@provhouse.org
SUMMARY:FOUNT Fundraiser for Providence House
DESCRIPTION:Treat yourself (or someone special) to a beautiful leather bag and support children and families in crisis! \nOur friends at FOUNT are hosting an incredible fundraiser for Providence House at their Pinecrest store on Sunday\, April 12\, from 12 pm to 4 pm! \nDuring that time\, FOUNT will donate 20% of all in-store and online purchases to help us keep kids safe and families together across Northeast Ohio. If you’re shopping online\, make sure to use the code CLESHIP at checkout! \nFOUNT bags are designed right here in Cleveland\, and handcrafted by skilled artisans in Ohio\, the Dominican Republic\, and Leon\, Mexico. Founders Phillip and Jackie Wachter share on their website that they ethically and responsibly make their products\, so their craftsmen and customers can be proud of what is being made. \nJoin us on April 12 for a fun afternoon that makes a difference!
URL:https://provhouse.org/event/fount-fundraiser-for-providence-house/
LOCATION:FOUNT Pinecrest\, 400 Park Ave Suite 184\, Orange Village\, Cleveland\, OH\, 44122\, United States
ATTACH;FMTTYPE=image/png:https://provhouse.org/wp-content/uploads/2026/02/fountfundraiser20261.png
END:VEVENT
BEGIN:VEVENT
DTSTART;TZID=UTC:20260319T180000
DTEND;TZID=UTC:20260319T180000
DTSTAMP:20260422T224918
CREATED:20260311T141507Z
LAST-MODIFIED:20260311T141758Z
UID:10000005-1773943200-1773943200@provhouse.org
SUMMARY:PHriends NCAA Tournament Watch Party
DESCRIPTION:[vc_row][vc_column width=”1/1″][vc_column_text uncode_shortcode_id=”137221″] \nCatch the excitement of the first round of the NCAA Basketball Tournament while supporting children and families in crisis! \nOur PHriends are hosting a watch party at The W Sports Bar. Grab a seat\, cheer on your favorite teams\, and connect with fellow supporters of Providence House! \nA signature drink will be available during the event and a portion of proceeds will be donated to Providence House. \nFeel free to wear your favorite team’s jersey and show your March Madness spirit! \nJoin us for a fun night of basketball\, community and impact\, all in support of keeping children safe and families together. \n[/vc_column_text][/vc_column][/vc_row]
URL:https://provhouse.org/event/phriends-ncaa-tournament-watch-party/
LOCATION:The W Sports Bar\, 5428 Detroit Ave\, Cleveland\, Ohio\, 44102
ATTACH;FMTTYPE=image/png:https://provhouse.org/wp-content/uploads/2026/03/spikeforhopepickleballlogos-1920x1080px3.png
END:VEVENT
BEGIN:VEVENT
DTSTART;TZID=UTC:20260306T190000
DTEND;TZID=UTC:20260306T210000
DTSTAMP:20260422T224918
CREATED:20260219T182649Z
LAST-MODIFIED:20260220T221240Z
UID:10000002-1772823600-1772830800@provhouse.org
SUMMARY:One Step Ahead Live Music Fundraiser
DESCRIPTION:Join our friends at One Step Ahead Ohio for an exciting evening of music that supports the children and families of Providence House! \nThis year’s March Forward Fundraiser takes place on Friday\, March 6\, from 7 – 10 pm at Music Box Supper Club and features a performance from talented Providence House Board Member and Musician\, Ryan Sowers\, and his band!
URL:https://provhouse.org/event/one-step-ahead-live-music-fundraiser/
LOCATION:Music Box Supper Club\, 1148 Main Avenue\, Cleveland\, OH\, 44113\, United States
ATTACH;FMTTYPE=image/png:https://provhouse.org/wp-content/uploads/2026/02/onestepaheadmarchforwardfundraiser2026.png
END:VEVENT
BEGIN:VEVENT
DTSTART;TZID=UTC:20260225T180000
DTEND;TZID=UTC:20260225T200000
DTSTAMP:20260422T224918
CREATED:20260219T182254Z
LAST-MODIFIED:20260220T221204Z
UID:10000001-1772042400-1772049600@provhouse.org
SUMMARY:Yoga & Live Music at the Cleveland Museum of Art
DESCRIPTION:Join us for a unique evening of movement and music at the Cleveland Museum of Art! \nThis special fundraising event features a 75-minute Vinyasa Yoga Class led by Providence House Board Member and Registered Yoga Instructor Sarah Ezzie Haines and will be accompanied by a live musical performance from Opus 216\, a Cleveland-based chamber ensemble known for innovative and immersive performances. The class begins at 6:00 pm. \nProceeds from the evening will support Providence House\, helping keep children safe and families together during times of crisis. \nRegistration\nCost: $50 donation to Providence HouseCapacity: Limited to 50 participants \nRegister Now \nParking\nThe museum’s parking garage is accessible from Jeptha Drive. Payment is accepted on-site by credit card or cash.\nAfter 5:00 pm parking rates• Members: $7• Nonmembers: $12 \nMetered street parking is also available nearby. \nAdditional Information\n• Wear comfortable clothing and bring a yoga mat and water bottle\n• Complimentary coat check will be available\n• Yoga mats are not permitted beyond the atrium• Guests wishing to explore the museum before or after the event must check mats at coat check or return them to their vehicle• The museum closes at 9:00 pm.• This event will be held in the Gartner Auditorium \nWe can’t wait to see you at this one-of-a-kind wellness experience in a world-class cultural space!
URL:https://provhouse.org/event/yoga-live-music-at-the-cleveland-museum-of-art/
LOCATION:Gartner Auditorium Cleveland Museum of Art\, 11150 East Blvd.\, Cleveland\, 44106\, United States
ATTACH;FMTTYPE=image/png:https://provhouse.org/wp-content/uploads/2026/02/yogamusicatmuseumofart.png
END:VEVENT
END:VCALENDAR