BEGIN:VCALENDAR
VERSION:2.0
PRODID:-//Providence House - ECPv6.15.17.1//NONSGML v1.0//EN
CALSCALE:GREGORIAN
METHOD:PUBLISH
X-ORIGINAL-URL:https://provhouse.org
X-WR-CALDESC:Events for Providence House
REFRESH-INTERVAL;VALUE=DURATION:PT1H
X-Robots-Tag:noindex
X-PUBLISHED-TTL:PT1H
BEGIN:VTIMEZONE
TZID:UTC
BEGIN:STANDARD
TZOFFSETFROM:+0000
TZOFFSETTO:+0000
TZNAME:UTC
DTSTART:20250101T000000
END:STANDARD
END:VTIMEZONE
BEGIN:VEVENT
DTSTART;TZID=UTC:20260428T113000
DTEND;TZID=UTC:20260428T133000
DTSTAMP:20260424T131840
CREATED:20260219T184846Z
LAST-MODIFIED:20260423T185507Z
UID:10000004-1777375800-1777383000@provhouse.org
SUMMARY:Providence House 45th Anniversary Luncheon
DESCRIPTION:We’re excited to celebrate nearly 50 years of Providence House and more than 20\,000 children kept safe and families together at our 45th Anniversary Luncheon! \nBelow are details to help our guests prepare for the event. \nCan’t join us?  You can still make a gift to support children and families in crisis at Providence House! Your generous donation will be recognized during our event program.  \nVenue \nOur Anniversary Luncheon will take place at the Hilton Cleveland Downtown\, located at 100 Lakeside Ave E\, Cleveland\, OH 44114.  \nThe Hope Ballroom is located on the 3rd Floor.  \nParking \nComplimentary self-parking is available in the Huntington Park Garage\, which can be entered from Lakeside Avenue\, directly across from the Hilton\, or from West 3rd Street.  \nHuntington Park Garage – 1141 West 3rd Street\, Cleveland 44114  \n\nOnce you’ve parked\, you’ll take the underground tunnel from the garage to get to the Hilton \nAt the end of the tunnel\, turn right and take the elevator to the 3rd Floor \nOur staff will be stationed along the way to help guide you! \n\nTimeline \n\n11:00 am – Doors Open\, Raffle\, Wall of Hope\, & Silent Auction Begin \n11:30 am – Ballroom Opens for Guests to Enjoy Their Salad \n12:00 pm – Event Chair Karen Dolan Begins the Program \n1:10 pm – Raffle & Silent Auction Winners Announced \n1:30 pm – Event Ends  \n\nEvent Features \n\nProvidence House Updates including a special unveiling \nKeynote Address from Cleveland WNBA’s President of Business Operations Allison Howard \nEvery Child Award Ceremony honoring RSM\, Terry & Edda Owen\, Exscape Designs\, and a Memorial Tribute to Gloria Fine \nWall of Hope filled with 200 Mystery Bags \nRaffle Baskets & Silent Auction featuring exclusive signed memorabilia and experiences \n\nLunch \nSalads will be pre-plated for you to enjoy when you take your seat\, and our delicious entrees will be served during our program.  \n\nSalad – Baby Lettuce\, Carrots\, Cherry Tomato\, Radish\, Blueberries\, Raspberry Vinaigrette \nEntree – Pan Seared Chicken Breast or Grilled Eggplant \nDessert – Lemon Tart or Flourless Chocolate Cake 
URL:https://provhouse.org/event/providence-house-45th-anniversary-luncheon/
LOCATION:Hilton Cleveland Downtown\, 100 Lakeside Avenue East\, Cleveland\, OH\, 44114\, United States
ATTACH;FMTTYPE=image/png:https://provhouse.org/wp-content/uploads/2026/02/2026anniversaryluncheon.png
END:VEVENT
END:VCALENDAR